BEGIN:VCALENDAR
PRODID:-//dvv-bw.de//dvv.Portalplattform//DE
VERSION:2.0
METHOD:PUBLISH
BEGIN:VEVENT
DTSTART:20261103T150000Z
DTEND:20261103T160000Z
DTSTAMP:20260425T014856Z
UID:523254687505-523236478101-1793660400000
SUMMARY:Internationale Geschichteninsel auf Russisch
LOCATION:Stadtbibliothek im Kulturzentrum\, Wilhelmstraße 9/1\, 71638 Ludwigsburg
DESCRIPTION:Kinder lauschen bei Inna Dietz-Kravtsov dem Zauber der russischen Sprache.
CLASS:PUBLIC
X-ALT-DESC;FMTTYPE=text/html:Kinder lauschen bei Inna Dietz-Kravtsov dem Zauber der russischen Sprache.
END:VEVENT
END:VCALENDAR
