BEGIN:VCALENDAR
PRODID:-//dvv-bw.de//dvv.Portalplattform//DE
VERSION:2.0
METHOD:PUBLISH
BEGIN:VEVENT
DTSTART:20260618T140000Z
DTEND:20260618T163000Z
DTSTAMP:20260424T222758Z
UID:523254149348-523254149232-1781733600000
SUMMARY:Maker Zone
DESCRIPTION:Die Maker Zone ist ein mobiles Tüftellabor in der Stadtbibliothek Ludwigsburg. Hier verbinden sich Kunst\, Technik und Medien auf besondere Weise zu einem Ort des kreativen Ausprobierens und Entdeckens.
CLASS:PUBLIC
X-ALT-DESC;FMTTYPE=text/html:Die Maker Zone ist ein mobiles Tüftellabor in der Stadtbibliothek Ludwigsburg. Hier verbinden sich Kunst\, Technik und Medien auf besondere Weise zu einem Ort des kreativen Ausprobierens und Entdeckens.
END:VEVENT
END:VCALENDAR
