BEGIN:VCALENDAR
PRODID:-//dvv-bw.de//dvv.Portalplattform//DE
VERSION:2.0
METHOD:PUBLISH
BEGIN:VEVENT
DTSTART:20260625T160000Z
DTEND:20260625T173000Z
DTSTAMP:20260421T143802Z
UID:523252476456-523252482403-1782338400000
SUMMARY:Gastrosophie-Abend
LOCATION:Ludwigsburg Museum im MIK\, Eberhardstraße 1\, 71634 Ludwigsburg
DESCRIPTION:Lauscht Fachleuten\, die ihr Wissen über ein kulinarisches Thema mit euch teilen\, und genießt kleine Kostproben in der einladenden Atmosphäre des Cafés Madame Lu!\n\n5. MÄRZ Baklava\, Muhannad Albakour | Cake Town\n25. JUNI Bier\, Sebastian Bauer | Suspicious Monkey Brewing\n24. SEPT Tee\, Anita Prontzas | Teeladen Anita Prontzas
CLASS:PUBLIC
X-ALT-DESC;FMTTYPE=text/html:Lauscht Fachleuten\, die ihr Wissen über ein kulinarisches Thema mit euch teilen\, und genießt kleine Kostproben in der einladenden Atmosphäre des Cafés Madame Lu!<br><br>5. MÄRZ Baklava\, Muhannad Albakour | Cake Town<br>25. JUNI Bier\, Sebastian Bauer | Suspicious Monkey Brewing<br>24. SEPT Tee\, Anita Prontzas | Teeladen Anita Prontzas
END:VEVENT
END:VCALENDAR
