BEGIN:VCALENDAR
PRODID:-//dvv-bw.de//dvv.Portalplattform//DE
VERSION:2.0
METHOD:PUBLISH
BEGIN:VEVENT
DTSTART:20260603T103000Z
DTEND:20260603T110000Z
DTSTAMP:20260421T143655Z
UID:523251806676-523250439906-1780437600000
SUMMARY:Museumspause
LOCATION:Ludwigsburg Museum im MIK\, Eberhardstraße 1\, 71634 Ludwigsburg
DESCRIPTION:Lasst euch bei der »Museumspause« überraschen von kurzweiligen Einblicken in die Ausstellungen und von besonderen Ludwigsburger Geschichten! Das jeweilige Thema der Kurzführung wird über Presse\, Social Media und Newsletter bekannt gemacht. Im Anschluss ist Zeit für einen Kaffee im MIK-Café »Madame Lu«.
CLASS:PUBLIC
X-ALT-DESC;FMTTYPE=text/html:Lasst euch bei der »Museumspause« überraschen von kurzweiligen Einblicken in die Ausstellungen und von besonderen Ludwigsburger Geschichten! Das jeweilige Thema der Kurzführung wird über Presse\, Social Media und Newsletter bekannt gemacht. Im Anschluss ist Zeit für einen Kaffee im MIK-Café »Madame Lu«.
END:VEVENT
END:VCALENDAR
