BEGIN:VCALENDAR
PRODID:-//dvv-bw.de//dvv.Portalplattform//DE
VERSION:2.0
METHOD:PUBLISH
BEGIN:VEVENT
DTSTART:20260507T160000Z
DTEND:20260507T170000Z
DTSTAMP:20260421T143817Z
UID:523254306103-523254307952-1778104800000
SUMMARY:Werkvortrag Beispielhaftes Bauen
LOCATION:Ludwigsburg Museum im MIK\, Eberhardstraße 1\, 71634 Ludwigsburg
DESCRIPTION:Im Rahmen der Ausstellung "Beispielhaftes Bauen" der Architektenkammer Baden-Württemberg (14.4.–17.5.2026) stellen die Architekt*innen Elke Reichel und Peter Schlaier ein prämiertes Ludwigsburger Studierendenwohnheim vor\, das 2023 fertiggestellt wurde.\n\nWohnen für Studierende\nKönigsallee 60\, 62 und Friedrichstraße 45\, 45/171638 Ludwigsburg\n\nArchitektur/Stadtplanung\nReichel Schlaier Architekten GmbH\, Freie Architekten BDA\, Stuttgart\, Projektleitung: Vanessa Pohler\, Christine Spetzler | Ausschreibung und Bauleitung: Wenzel + Wenzel GmbH\, Stuttgart | LA: Koeber Landschaftsarchitektur GmbH\, Stuttgart\nBegründung der Jury\nAuf dem ehemaligen Kasernenareal fügen sich zwei neue Baukörper klar in das städtebauliche Gefüge ein und definieren präzise Blockkanten. Um einen ruhigen\, begrünten Hof gruppiert\, entstehen gelungene Aufenthaltsräume und Treffpunkte\, die das gemeinschaftliche Leben stärken. Angenehme Gemeinschaftszonen überzeugen mit direktem Freiraumbezug. Kleine und große WGs bieten vielfältige und zeitgemäße Formen des Zusammenlebens\, ergänzt durch barrierefreie Angebote. Mit Erkern rhythmisch gegliederte Ziegelsteinfassaden\, differenzierte Erdgeschosse und eine feine Farbgestaltung verleihen den Gebäuden einen markanten Ausdruck. Mit klarer Adressbildung\, lebendig gestalteten Innenbereichen und guter Orientierung schafft das Ensemble ein modernes\, identitätsstiftendes Wohnumfeld für Studierende. \nEine Kooperation mit der Architektenkammer Baden-Württemberg\nFoto: Brigida Gonzalez\nAlle Informationen zum Auszeichnungsverfahren Beispielhaftes Bauen
CLASS:PUBLIC
X-ALT-DESC;FMTTYPE=text/html:Im Rahmen der Ausstellung "Beispielhaftes Bauen" der Architektenkammer Baden-Württemberg (14.4.&ndash;17.5.2026) stellen die Architekt*innen Elke Reichel und Peter Schlaier ein prämiertes Ludwigsburger Studierendenwohnheim vor\, das 2023 fertiggestellt wurde.<br><br>Wohnen für Studierende<br>Königsallee 60\, 62 und Friedrichstraße 45\, 45/171638 Ludwigsburg<br><br>Architektur/Stadtplanung<br>Reichel Schlaier Architekten GmbH\, Freie Architekten BDA\, Stuttgart\, Projektleitung: Vanessa Pohler\, Christine Spetzler | Ausschreibung und Bauleitung: Wenzel + Wenzel GmbH\, Stuttgart | LA: Koeber Landschaftsarchitektur GmbH\, Stuttgart<br>Begründung der Jury<br>Auf dem ehemaligen Kasernenareal fügen sich zwei neue Baukörper klar in das städtebauliche Gefüge ein und definieren präzise Blockkanten. Um einen ruhigen\, begrünten Hof gruppiert\, entstehen gelungene Aufenthaltsräume und Treffpunkte\, die das gemeinschaftliche Leben stärken. Angenehme Gemeinschaftszonen überzeugen mit direktem Freiraumbezug. Kleine und große WGs bieten vielfältige und zeitgemäße Formen des Zusammenlebens\, ergänzt durch barrierefreie Angebote. Mit Erkern rhythmisch gegliederte Ziegelsteinfassaden\, differenzierte Erdgeschosse und eine feine Farbgestaltung verleihen den Gebäuden einen markanten Ausdruck. Mit klarer Adressbildung\, lebendig gestalteten Innenbereichen und guter Orientierung schafft das Ensemble ein modernes\, identitätsstiftendes Wohnumfeld für Studierende. <br>Eine Kooperation mit der Architektenkammer Baden-Württemberg<br>Foto: Brigida Gonzalez<br>Alle Informationen zum Auszeichnungsverfahren Beispielhaftes Bauen
END:VEVENT
END:VCALENDAR
